BEGIN:VCALENDAR
VERSION:2.0
PRODID:-//Community Associations Institute - Middle East Chapter - ECPv6.15.17//NONSGML v1.0//EN
CALSCALE:GREGORIAN
METHOD:PUBLISH
X-ORIGINAL-URL:https://caime.org
X-WR-CALDESC:Events for Community Associations Institute - Middle East Chapter
REFRESH-INTERVAL;VALUE=DURATION:PT1H
X-Robots-Tag:noindex
X-PUBLISHED-TTL:PT1H
BEGIN:VTIMEZONE
TZID:UTC
BEGIN:STANDARD
TZOFFSETFROM:+0000
TZOFFSETTO:+0000
TZNAME:UTC
DTSTART:20200101T000000
END:STANDARD
END:VTIMEZONE
BEGIN:VEVENT
DTSTART;VALUE=DATE:20211208
DTEND;VALUE=DATE:20211210
DTSTAMP:20260423T092635
CREATED:20210607T071138Z
LAST-MODIFIED:20220102T080712Z
UID:2807-1638921600-1639094399@caime.org
SUMMARY:IRECMS Dubai 2021
DESCRIPTION:The World’s Leading Conference on Community Management comes to Dubai. International Real Estate Community Management Summit is designed as a platform that serves the dual purpose of introducing the profession of Community Management in countries where it is not yet practiced formally as well as enhancing this profession in countries where it is a legal requirement. IRECMS is designed to serve the evolving needs of the real estate communities around the world\, especially in the context of Community Management.
URL:https://caime.org/event/irecms-dubai/
CATEGORIES:Conferences
END:VEVENT
END:VCALENDAR